BEGIN:VCALENDAR
VERSION:2.0
PRODID:-//eventon.com NONSGML v1.0//EN
CALSCALE:GREGORIAN
METHOD:PUBLISH
BEGIN:VEVENT
UID:69e6c5d87c9a1
DTSTAMP:20260420T193328
DTSTART:20241201T013000Z
DTEND:20241201T055000Z
TZID:America/Chicago
LOCATION:
SUMMARY:2024 Christmastide Holiday Tour - Le Musique\,  St Michael\,  MN
DESCRIPTION: Saturday\,  November 30\,  7:30pm &#8211; St Michael\,  MN Le Musique Room 4300 O Day Ave. NE\,  St Michael\,  MN 55376 Venue website / 612-314-9199 / Email $35  TICKETS ON SALE NOW! Doors open at 7:00pm &#8212;&#8212;&#8212;&#8212;&#8212;&#8212;&#8212;&#8212;&#8212;&#8212; Christmastide 2024 with SimpleGifts featuring Billy McLaughlin Over 20 years of holiday arranging\,  recording\, [..]\nhttps://simplegiftsmusic.net/events/2024-christmastide-holiday-tour-st-michael-2024/
URL:https://simplegiftsmusic.net/events/2024-christmastide-holiday-tour-st-michael-2024/
END:VEVENT
END:VCALENDAR