BEGIN:VCALENDAR
VERSION:2.0
PRODID:-//eventon.com NONSGML v1.0//EN
CALSCALE:GREGORIAN
METHOD:PUBLISH
BEGIN:VEVENT
UID:69e698b268c70
DTSTAMP:20260420T162050
DTSTART:20241213T013000Z
DTEND:20241213T055900Z
TZID:America/Chicago
LOCATION:Mount Olivet Lutheran Church of Plymouth 12235 Old Rockford Road
SUMMARY:2024 Christmastide Holiday Tour - Mount Olivet Lutheran Church of Plymouth\,  MN
DESCRIPTION: Thursday\,  December 12\,  7:30pm &#8211; Plymouth\,  MN Mount Olivet Lutheran Church of Plymouth 12235 Old Rockford Road\,  Plymouth MN 55441 $45/adult in advance; $50 door $20 kids/students in advance; $25 door $40 seniors in advance; $45 door TICKETS ON SALE NOW! Doors open at 7:00pm &#8212;&#8212;&#8212;&#8212;&#8212;&#8212;&#8212;&#8212;&#8212;&#8212; Christmastide 2024 with SimpleGifts[..]\nhttps://simplegiftsmusic.net/events/2024-christmastide-holiday-tour-plymouth-dec-2024/
URL:https://simplegiftsmusic.net/events/2024-christmastide-holiday-tour-plymouth-dec-2024/
END:VEVENT
END:VCALENDAR