BEGIN:VCALENDAR
VERSION:2.0
PRODID:-//eventon.com NONSGML v1.0//EN
CALSCALE:GREGORIAN
METHOD:PUBLISH
BEGIN:VEVENT
UID:69e684b52ec81
DTSTAMP:20260420T145533
DTSTART:20241216T013000Z
DTEND:20241216T055900Z
TZID:America/Chicago
LOCATION:The Parkway Theater 
SUMMARY:Christmastide at The Parkway - Minneapolis\,  MN
DESCRIPTION: Sunday\,  December 15\,  7:00pm &#8211; Minneapolis\,  MN The Parkway Theater 4814 Chicago Ave.\,  Minneapolis\,  MN 55417 Venue website / 612-822-8080 $60 (+taxes/fees) VIP Seating (includes premium seating and pre-show reception from 6-6:30 pm) $50 (+taxes/fees) Preferred Reserved Seating $45 (+taxes/fees) Advance General Reserved // $50 (+taxes/fees) At the door All[..]\nhttps://simplegiftsmusic.net/events/2024-christmastide-holiday-tour-parkway-dec-2024/
URL:https://simplegiftsmusic.net/events/2024-christmastide-holiday-tour-parkway-dec-2024/
END:VEVENT
END:VCALENDAR