BEGIN:VCALENDAR
VERSION:2.0
PRODID:-//eventon.com NONSGML v1.0//EN
CALSCALE:GREGORIAN
METHOD:PUBLISH
BEGIN:VEVENT
UID:69e66b194cfe5
DTSTAMP:20260420T130617
DTSTART:20241214T013000Z
DTEND:20241214T055000Z
TZID:America/Chicago
LOCATION:
SUMMARY:2024 Christmastide Holiday Tour - State Theater\,  Zumbrota\,  MN
DESCRIPTION: Friday\,  December 13\,  7:30pm &#8211; Zumbrota\,  MN Zumbrota State Theater 96 E 4th St\,  Zumbrota\,  MN 55992 Venue website / Email $40 TICKETS ON SALE NOW! Doors open at 7:00pm &#8212;&#8212;&#8212;&#8212;&#8212;&#8212;&#8212;&#8212;&#8212;&#8212; Christmastide 2024 with SimpleGifts featuring Billy McLaughlin Over 20 years of holiday arranging\,  recording\,  and touring finds SimpleGifts in[..]\nhttps://simplegiftsmusic.net/events/2024-christmastide-holiday-tour-zumbrota-mn/
URL:https://simplegiftsmusic.net/events/2024-christmastide-holiday-tour-zumbrota-mn/
END:VEVENT
END:VCALENDAR