BEGIN:VCALENDAR
VERSION:2.0
PRODID:-//eventon.com NONSGML v1.0//EN
CALSCALE:GREGORIAN
METHOD:PUBLISH
BEGIN:VEVENT
UID:69e63aa54e69a
DTSTAMP:20260420T093933
DTSTART:20241102T003000Z
DTEND:20241102T045000Z
TZID:America/Chicago
LOCATION:
SUMMARY:Medina Entertainment Center - Medina\,  MN
DESCRIPTION: Friday\,  November 1\,  2024 &#8211; 7:30pm – Medina\,  MN NEIL! MARTIN ZELLAR’S TRIBUTE TO NEIL DIAMOND with guest Simple Gifts w/Billy McLaughlin presents The Young and the Rest Medina Entertainment Center 500 HWY 55\,  Medina\,  MN 763-478-6661 / Venue Website $30-$40 Tickets are $8 more the day of show (plus applicable fees) All[..]\nhttps://simplegiftsmusic.net/events/medina-entertainment-center-medina-mn/
URL:https://simplegiftsmusic.net/events/medina-entertainment-center-medina-mn/
END:VEVENT
END:VCALENDAR