BEGIN:VCALENDAR
VERSION:2.0
PRODID:-//eventon.com NONSGML v1.0//EN
CALSCALE:GREGORIAN
METHOD:PUBLISH
BEGIN:VEVENT
UID:69e63a0c5a331
DTSTAMP:20260420T093700
DTSTART:20241005T210000Z
DTEND:20241006T030000Z
TZID:America/Chicago
LOCATION:
SUMMARY:Rocktoberfest VIII - Rockford\,  MN
DESCRIPTION: Saturday\,  October 5\,  2024 – 4-10pm – Rockford\,  MN Riverside Park Mechanic St\,  Rockford\,  MN 55373 Venue Website 3 bands / 1 stage. Lots of food and fun! Free event to the public.\nhttps://simplegiftsmusic.net/events/rocktoberfest-viii-rockford-mn/
URL:https://simplegiftsmusic.net/events/rocktoberfest-viii-rockford-mn/
END:VEVENT
END:VCALENDAR